BEGIN:VCALENDAR
VERSION:2.0
PRODID:-//Liberty From Lead - ECPv6.15.20//NONSGML v1.0//EN
CALSCALE:GREGORIAN
METHOD:PUBLISH
X-WR-CALNAME:Liberty From Lead
X-ORIGINAL-URL:https://libertyfromlead.com
X-WR-CALDESC:Events for Liberty From Lead
REFRESH-INTERVAL;VALUE=DURATION:PT1H
X-Robots-Tag:noindex
X-PUBLISHED-TTL:PT1H
BEGIN:VTIMEZONE
TZID:UTC
BEGIN:STANDARD
TZOFFSETFROM:+0000
TZOFFSETTO:+0000
TZNAME:UTC
DTSTART:20240101T000000
END:STANDARD
END:VTIMEZONE
BEGIN:VEVENT
DTSTART;TZID=UTC:20250913T120000
DTEND;TZID=UTC:20250913T170000
DTSTAMP:20260424T054731
CREATED:20250826T120208Z
LAST-MODIFIED:20250826T120208Z
UID:2221-1757764800-1757782800@libertyfromlead.com
SUMMARY:South Carolina Firearm Carry Class
DESCRIPTION:South Carolina Firearm Carry Class \nThis is the class you should attend and complete prior to carrying your firearm\, open or concealed\, within the state of South Carolina as well as reciprocating States.  \nCWP class is $60.00\, with your $30.00 deposit. (we take Venmo\, Cash Ap\, Apple Pay\, Zelle\, check\, and cash). \nAdditional cost for firearm rental & ammo and eye & ear protection if needed. \nApproximately a five-hour class. \nItems to bring: FA & new ammo\, holsters\, PPE\, snacks & drinks\, notepad\, range attire.
URL:https://libertyfromlead.com/class/south-carolina-firearm-carry-class-7/
CATEGORIES:CWP Class
END:VEVENT
END:VCALENDAR