BEGIN:VCALENDAR
VERSION:2.0
PRODID:-//Liberty From Lead - ECPv6.15.20//NONSGML v1.0//EN
CALSCALE:GREGORIAN
METHOD:PUBLISH
X-WR-CALNAME:Liberty From Lead
X-ORIGINAL-URL:https://libertyfromlead.com
X-WR-CALDESC:Events for Liberty From Lead
REFRESH-INTERVAL;VALUE=DURATION:PT1H
X-Robots-Tag:noindex
X-PUBLISHED-TTL:PT1H
BEGIN:VTIMEZONE
TZID:UTC
BEGIN:STANDARD
TZOFFSETFROM:+0000
TZOFFSETTO:+0000
TZNAME:UTC
DTSTART:20250101T000000
END:STANDARD
END:VTIMEZONE
BEGIN:VEVENT
DTSTART;TZID=UTC:20260221T120000
DTEND;TZID=UTC:20260221T170000
DTSTAMP:20260423T220448
CREATED:20260213T163550Z
LAST-MODIFIED:20260213T175924Z
UID:2397-1771675200-1771693200@libertyfromlead.com
SUMMARY:SC Firearm Carry Class
DESCRIPTION:South Carolina Firearm Carry Class \nGet the training and confidence you need to legally and responsibly carry a firearm in South Carolina and all participating reciprocity states. Our course delivers essential instruction with a streamlined\, engaging learning experience. \nAffordable\, All-Inclusive Training \nEnroll for just $60\, which includes a $30 deposit. We offer flexible payment options including Venmo\, Cash App\, Apple Pay\, Zelle\, and cash for your convenience. \nWhat to Expect \nThis comprehensive five-hour class is designed to equip you with the knowledge and confidence needed to carry safely and legally.\nAdditional fees apply only if you need firearm rental\, ammunition\, or protective gear. \nCome Prepared \nTo get the most out of your training\, we recommend bringing: \n\nA firearm with new ammunition\nA holster\nPersonal protective equipment\nSnacks and drinks\nA notepad\nProper range attire\n\n 
URL:https://libertyfromlead.com/class/sc-firearm-carry-class-3/
CATEGORIES:CWP Class
END:VEVENT
END:VCALENDAR