BEGIN:VCALENDAR
VERSION:2.0
PRODID:-//Liberty From Lead - ECPv6.15.20//NONSGML v1.0//EN
CALSCALE:GREGORIAN
METHOD:PUBLISH
X-ORIGINAL-URL:https://libertyfromlead.com
X-WR-CALDESC:Events for Liberty From Lead
REFRESH-INTERVAL;VALUE=DURATION:PT1H
X-Robots-Tag:noindex
X-PUBLISHED-TTL:PT1H
BEGIN:VTIMEZONE
TZID:UTC
BEGIN:STANDARD
TZOFFSETFROM:+0000
TZOFFSETTO:+0000
TZNAME:UTC
DTSTART:20250101T000000
END:STANDARD
END:VTIMEZONE
BEGIN:VEVENT
DTSTART;TZID=UTC:20260314T100000
DTEND;TZID=UTC:20260314T130000
DTSTAMP:20260423T174610
CREATED:20260304T004137Z
LAST-MODIFIED:20260309T004634Z
UID:2456-1773482400-1773493200@libertyfromlead.com
SUMMARY:Handgun Introduction
DESCRIPTION:Introduction to Handgun Safety\, Handling and Range Etiquette \nEssential Defensive Firearms Skills Course \nA highly recommended class for anyone preparing to take — or who has already taken — their CWP course. Perfect for beginners and experienced shooters alike\, with a no‑judgment\, learn‑at‑your‑pace environment. Everyone walks away with new skills and greater confidence. \nWhat You’ll Learn (Approx. 3 Hours) \n🛡️ Safe Handling & Fundamentals \nProper handling of firearms and ammunition\, both on and off the range \nCore safety rules and practical application \nBuilding confidence with your personal firearm \n💬 Mindset & Responsibility \nWhy people choose to own or carry a firearm \nUnderstanding personal responsibility and situational awareness \n⚖️ Legal Considerations \nWhen you can — and cannot — legally use your firearm \nInteracting with law enforcement while carrying or after an emergency \nKey legal concepts every responsible gun owner should know \n🎒 Gear & Equipment Overview \nWhat to carry and why: firearms\, magazines\, holsters\, ammo\, PPE\, first aid\, range bag essentials\, and more \nHow to choose reliable\, practical equipment \n🤲 Hands‑On Skill Building \nStance\, grip\, sight alignment\, and trigger control \nRacking the slide\, loading magazines\, and performing magazine changes \nWorking directly with your own firearm for real‑world familiarity \n🔥 Live Fire Practice \nGuided range time to apply everything you’ve learned \nSafe\, supportive coaching to reinforce proper technique \nWhy This Class Matters \nThis course builds the foundation you need for all future training. It prepares you for more advanced classes\, boosts confidence\, and ensures you’re safe\, informed\, and ready for real‑world scenarios
URL:https://libertyfromlead.com/class/handgun-introduction/
CATEGORIES:Handgun Introduction
END:VEVENT
END:VCALENDAR