BEGIN:VCALENDAR
VERSION:2.0
PRODID:-//Liberty From Lead - ECPv6.15.20//NONSGML v1.0//EN
CALSCALE:GREGORIAN
METHOD:PUBLISH
X-ORIGINAL-URL:https://libertyfromlead.com
X-WR-CALDESC:Events for Liberty From Lead
REFRESH-INTERVAL;VALUE=DURATION:PT1H
X-Robots-Tag:noindex
X-PUBLISHED-TTL:PT1H
BEGIN:VTIMEZONE
TZID:UTC
BEGIN:STANDARD
TZOFFSETFROM:+0000
TZOFFSETTO:+0000
TZNAME:UTC
DTSTART:20230101T000000
END:STANDARD
END:VTIMEZONE
BEGIN:VEVENT
DTSTART;TZID=UTC:20260418T120000
DTEND;TZID=UTC:20260418T150000
DTSTAMP:20260423T191940
CREATED:20260331T005104Z
LAST-MODIFIED:20260331T005156Z
UID:2533-1776513600-1776524400@libertyfromlead.com
SUMMARY:Handgun Introduction
DESCRIPTION:Introduction to Handgun Safety\, Handling and Range Etiquette \nEssential Defensive Firearms Skills Course \nA highly recommended class for anyone preparing to take — or who has already taken — their CWP course. Perfect for beginners and experienced shooters alike\, with a no‑judgment\, learn‑at‑your‑pace environment. Everyone walks away with new skills and greater confidence. \nWhat You’ll Learn (Approx. 3 Hours) \n🛡️ Safe Handling & Fundamentals \nProper handling of firearms and ammunition\, both on and off the range \nCore safety rules and practical application \nBuilding confidence with your personal firearm \n💬 Mindset & Responsibility \nWhy people choose to own or carry a firearm \nUnderstanding personal responsibility and situational awareness \n⚖️ Legal Considerations \nWhen you can — and cannot — legally use your firearm \nInteracting with law enforcement while carrying or after an emergency \nKey legal concepts every responsible gun owner should know \n🎒 Gear & Equipment Overview \nWhat to carry and why: firearms\, magazines\, holsters\, ammo\, PPE\, first aid\, range bag essentials\, and more \nHow to choose reliable\, practical equipment \n🤲 Hands‑On Skill Building \nStance\, grip\, sight alignment\, and trigger control \nRacking the slide\, loading magazines\, and performing magazine changes \nWorking directly with your own firearm for real‑world familiarity \n🔥 Live Fire Practice \nGuided range time to apply everything you’ve learned \nSafe\, supportive coaching to reinforce proper technique \nWhy This Class Matters \nThis course builds the foundation you need for all future training. It prepares you for more advanced classes\, boosts confidence\, and ensures you’re safe\, informed\, and ready for real‑world scenarios. \nWe ask for a minimum $50 donation per shooter — Any extra helps us support others in need — thank you for your generosity\, and we really appreciate it.
URL:https://libertyfromlead.com/class/handgun-introduction-2/
CATEGORIES:Handgun Introduction
END:VEVENT
BEGIN:VEVENT
DTSTART;TZID=UTC:20260314T100000
DTEND;TZID=UTC:20260314T130000
DTSTAMP:20260423T191940
CREATED:20260304T004137Z
LAST-MODIFIED:20260309T004634Z
UID:2456-1773482400-1773493200@libertyfromlead.com
SUMMARY:Handgun Introduction
DESCRIPTION:Introduction to Handgun Safety\, Handling and Range Etiquette \nEssential Defensive Firearms Skills Course \nA highly recommended class for anyone preparing to take — or who has already taken — their CWP course. Perfect for beginners and experienced shooters alike\, with a no‑judgment\, learn‑at‑your‑pace environment. Everyone walks away with new skills and greater confidence. \nWhat You’ll Learn (Approx. 3 Hours) \n🛡️ Safe Handling & Fundamentals \nProper handling of firearms and ammunition\, both on and off the range \nCore safety rules and practical application \nBuilding confidence with your personal firearm \n💬 Mindset & Responsibility \nWhy people choose to own or carry a firearm \nUnderstanding personal responsibility and situational awareness \n⚖️ Legal Considerations \nWhen you can — and cannot — legally use your firearm \nInteracting with law enforcement while carrying or after an emergency \nKey legal concepts every responsible gun owner should know \n🎒 Gear & Equipment Overview \nWhat to carry and why: firearms\, magazines\, holsters\, ammo\, PPE\, first aid\, range bag essentials\, and more \nHow to choose reliable\, practical equipment \n🤲 Hands‑On Skill Building \nStance\, grip\, sight alignment\, and trigger control \nRacking the slide\, loading magazines\, and performing magazine changes \nWorking directly with your own firearm for real‑world familiarity \n🔥 Live Fire Practice \nGuided range time to apply everything you’ve learned \nSafe\, supportive coaching to reinforce proper technique \nWhy This Class Matters \nThis course builds the foundation you need for all future training. It prepares you for more advanced classes\, boosts confidence\, and ensures you’re safe\, informed\, and ready for real‑world scenarios
URL:https://libertyfromlead.com/class/handgun-introduction/
CATEGORIES:Handgun Introduction
END:VEVENT
BEGIN:VEVENT
DTSTART;TZID=UTC:20251011T120000
DTEND;TZID=UTC:20251011T150000
DTSTAMP:20260423T191940
CREATED:20250919T004641Z
LAST-MODIFIED:20250923T001309Z
UID:2259-1760184000-1760194800@libertyfromlead.com
SUMMARY:Introduction to Handgun Safety\, Handling and Range Etiquette
DESCRIPTION:Introduction to Handgun Safety\, Handling and Range Etiquette \nThis is a great class prior to taking or after taking your CWP class\, beginners and for those who are experienced\, … no judgement here!!!\nEveryone learns something new! \nApproximately three-hour course of: \nSafe handling of firearms and ammo\, on and off the range. \nDiscussion\, of why do we want to own / carry a firearm. \nSome firearm legalities\, Law Enforcement interaction\, when to shoot and when not to. \nItems to have list\, such as firearms\, magazines\, holsters\, ammo\, PPE\, 1st aid\, range bag\, and more. \nHands on with your firearm\, stance\, grip\, sights\, racking the slide\, loading and changing your magazine\, etc. \nThen live fire on the range. \nWhat to bring: Firearm & at least 50 rounds of ammo\, (100 to be safe)\, Firearm and Mags\, holsters if you have\, eye & ear protection\, closed toed shoes are best\, range attire and we do have some snacks/drinks. \nWe do have restroom accessibility. \nThis important class is highly recommended to get you prepared for our other classes and is extremely helpful for future range events. \nMinimum donation of $50.00. (Extra is always welcome and helpful for those in need). Our desire is to help you get comfortable and better with a firearm. \nPlease respond if you ARE coming to any of these classes so we can create scenarios and have enough range officers. \nNote: It takes a good 3 to 4 hours set up time for these classes\, so please be considerate in making your commitments. 😊 \nIf you need holsters\, we can custom make them for you!!
URL:https://libertyfromlead.com/class/introduction-to-handgun-safety-handling-and-range-etiquette-5/
CATEGORIES:Handgun Introduction
END:VEVENT
BEGIN:VEVENT
DTSTART;TZID=UTC:20251004T130000
DTEND;TZID=UTC:20251004T160000
DTSTAMP:20260423T191940
CREATED:20250915T005018Z
LAST-MODIFIED:20250920T234834Z
UID:2256-1759582800-1759593600@libertyfromlead.com
SUMMARY:Introduction to Handgun Safety\, Handling and Range Etiquette
DESCRIPTION:Introduction to Handgun Safety\, Handling and Range Etiquette \nThis is a great class prior to taking or after taking your CWP class\, beginners and for those who are experienced\, … no judgement here!!!\nEveryone learns something new! \nApproximately three-hour course of: \nSafe handling of firearms and ammo\, on and off the range. \nDiscussion\, of why do we want to own / carry a firearm. \nSome firearm legalities\, Law Enforcement interaction\, when to shoot and when not to. \nItems to have list\, such as firearms\, magazines\, holsters\, ammo\, PPE\, 1st aid\, range bag\, and more. \nHands on with your firearm\, stance\, grip\, sights\, racking the slide\, loading and changing your magazine\, etc. \nThen live fire on the range. \nWhat to bring: Firearm & at least 50 rounds of ammo\, (100 to be safe)\, Firearm and Mags\, holsters if you have\, eye & ear protection\, closed toed shoes are best\, range attire and we do have some snacks/drinks. \nWe do have restroom accessibility. \nThis important class is highly recommended to get you prepared for our other classes and is extremely helpful for future range events. \nMinimum donation of $50.00. (Extra is always welcome and helpful for those in need). Our desire is to help you get comfortable and better with a firearm. \nPlease respond if you ARE coming to any of these classes so we can create scenarios and have enough range officers. \nNote: It takes a good 3 to 4 hours set up time for these classes\, so please be considerate in making your commitments. 😊 \nIf you need holsters\, we can custom make them for you!! \n“As a person who has been raised around firearms from a young age\, and previous Class 1 Law Enforcement Officer with extensive range time and training\, I have always been comfortable handling a handgun. \nMy Law Enforcement Career ended almost exactly 10 years ago. I have done almost no training in the past 10 years other than just a few target plinking shots here and there\, absolutely nothing steady or intense. I know I lost my tactical edge and developed a few minor bad habits in form and grip\, like I said zero training to keep my skills sharp. \nThis class was a very good day to remember and practice basic fundamentals of handling and shooting \, class size is perfect to allow for good instruction\, and give special attention to everyone’s fundamentals. A absolutely must have for anyone just learning or getting back into the groove. \nMark and his instructors\, create an absolutely zero judgement zone!” Eric B.
URL:https://libertyfromlead.com/class/introduction-to-handgun-safety-handling-and-range-etiquette-4/
CATEGORIES:Handgun Introduction
END:VEVENT
BEGIN:VEVENT
DTSTART;TZID=UTC:20250222T130000
DTEND;TZID=UTC:20250222T163000
DTSTAMP:20260423T191940
CREATED:20250205T011415Z
LAST-MODIFIED:20250205T012826Z
UID:1744-1740229200-1740241800@libertyfromlead.com
SUMMARY:Introduction to Handgun Safety\, Handling and Range Etiquette
DESCRIPTION:Introduction to Handgun Safety\, Handling and Range Etiquette \nThis is a great class prior to taking or after taking your CWP class\, beginners and for those who are experienced\, … no judgement here!!!\nEveryone learns something new! \nApproximately three-hour course of: \nSafe handling of firearms and ammo\, on and off the range. \nDiscussion\, of why do we want to own / carry a firearm. \nSome firearm legalities\, Law Enforcement interaction\, when to shoot and when not to. \nItems to have list\, such as firearms\, magazines\, holsters\, ammo\, PPE\, 1st aid\, range bag\, and more. \nHands on with your firearm\, stance\, grip\, sights\, racking the slide\, loading your magazine and changing it\, etc. \nThen live fire on the range. \nWhat to bring: Firearm & at least 50 rounds of ammo\, (100 to be safe)\, Firearm and Mags\, holsters if you have\, eye & ear protection\, closed toed shoes are best\, and we do have some snacks/drinks. \nWe do have restroom accessibility. \nThis important class is highly recommended to get you prepared for our other classes and is extremely helpful for future range events. \nMinimum donation of $40.00. (Extra is always welcome and helpful). Our desire is to help you get comfortable and better with a firearm. \nPlease respond if you ARE coming to any of these classes so we can create scenarios and have enough range officers. \nNote: It takes a good 3 to 4 hours set up time for these classes\, so please be considerate in making your commitments. 😊 \nIf you need holsters\, we can custom make them for you!! \n“As a person who has been raised around firearms from a young age\, and previous Class 1 Law Enforcement Officer with extensive range time and training\, I have always been comfortable handling a handgun. \nMy Law Enforcement Career ended almost exactly 10 years ago. I have done almost no training in the past 10 years other than just a few target plinking shots here and there\, absolutely nothing steady or intense. I know I lost my tactical edge and developed a few minor bad habits in form and grip\, like I said zero training to keep my skills sharp. \nThis class was a very good day to remember and practice basic fundamentals of handling and shooting \, class size is perfect to allow for good instruction\, and give special attention to everyone’s fundamentals. A absolutely must have for anyone just learning or getting back into the groove. \nInstructors\, Mr. Trippi and his instructors\, create an absolutely zero judgement zone!” Eric B.
URL:https://libertyfromlead.com/class/introduction-to-handgun-safety-handling-and-range-etiquette-3/
CATEGORIES:Handgun Introduction
END:VEVENT
BEGIN:VEVENT
DTSTART;TZID=UTC:20250111T130000
DTEND;TZID=UTC:20250111T160000
DTSTAMP:20260423T191940
CREATED:20241220T020435Z
LAST-MODIFIED:20241220T020435Z
UID:1734-1736600400-1736611200@libertyfromlead.com
SUMMARY:Introduction to Handgun Safety\, Handling and Range Etiquette
DESCRIPTION:Introduction to Handgun Safety\, Handling and Range Etiquette \nThis is a great class prior to taking or after taking your CWP class\, beginners and for those who are experienced\, … no judgement here!!!\nEveryone learns something new! \nApproximately three-hour course of: \nSafe handling of firearms and ammo\, on and off the range. \nDiscussion\, of why do we want to own / carry a firearm. \nSome firearm legalities\, Law Enforcement interaction\, when to shoot and when not to. \nItems to have list\, such as firearms\, magazines\, holsters\, ammo\, PPE\, 1st aid\, range bag\, and more. \nHands on with your firearm\, stance\, grip\, sights\, racking the slide\, loading your magazine and changing it\, etc. \nThen live fire on the range. \nWhat to bring: Firearm & at least 50 rounds of ammo\, (100 to be safe)\, Firearm and Mags\, holsters if you have\, eye & ear protection\, closed toed shoes are best\, and we do have some snacks/drinks. \nWe do have restroom accessibility. \nThis important class is highly recommended to get you prepared for our other classes and is extremely helpful for future range events. \nMinimum donation of $40.00. (Extra is always welcome and helpful). Our desire is to help you get comfortable and better with a firearm. \nPlease respond if you ARE coming to any of these classes so we can create scenarios and have enough range officers. \nNote: It takes a good 3 to 4 hours set up time for these classes\, so please be considerate in making your commitments. 😊 \nIf you need holsters\, we can custom make them for you!! \n“As a person who has been raised around firearms from a young age\, and previous Class 1 Law Enforcement Officer with extensive range time and training\, I have always been comfortable handling a handgun. \nMy Law Enforcement Career ended almost exactly 10 years ago. I have done almost no training in the past 10 years other than just a few target plinking shots here and there\, absolutely nothing steady or intense. I know I lost my tactical edge and developed a few minor bad habits in form and grip\, like I said zero training to keep my skills sharp. \nThis class was a very good day to remember and practice basic fundamentals of handling and shooting \, class size is perfect to allow for good instruction\, and give special attention to everyone’s fundamentals. A absolutely must have for anyone just learning or getting back into the groove. \nInstructors\, (Adam &amp; David)\, and Mr. Trippi create an absolutely zero judgement zone!” Eric B.
URL:https://libertyfromlead.com/class/introduction-to-handgun-safety-handling-and-range-etiquette-2/
CATEGORIES:Handgun Introduction
END:VEVENT
BEGIN:VEVENT
DTSTART;TZID=UTC:20240907T130000
DTEND;TZID=UTC:20240907T160000
DTSTAMP:20260423T191940
CREATED:20240814T225650Z
LAST-MODIFIED:20240828T004055Z
UID:1700-1725714000-1725724800@libertyfromlead.com
SUMMARY:Introduction to Handgun Safety\, Handling and Range Etiquette
DESCRIPTION:Introduction to Handgun Safety\, Handling and Range Etiquette \nThis is a great class prior to taking or after taking your CWP class\, beginners and for those who are experienced\, … no judgement here!!!\nEveryone learns something new! \nApproximately three-hour course of: \nSafe handling of firearms and ammo\, on and off the range. \nDiscussion\, of why do we want to own / carry a firearm. \nSome firearm legalities\, Law Enforcement interaction\, when to shoot and when not to. \nItems to have list\, such as firearms\, magazines\, holsters\, ammo\, PPE\, 1st aid\, range bag\, and more. \nHands on with your firearm\, stance\, grip\, sights\, racking the slide\, loading your magazine and changing it\, etc. \nThen live fire on the range. \nWhat to bring: Firearm & at least 50 rounds of ammo\, (100 to be safe)\, Firearm and Mags\, holsters if you have\, eye & ear protection\, closed toed shoes are best\, and we do have some snacks/drinks. \nWe do have restroom accessibility. \nThis important class is highly recommended to get you prepared for our other classes and is extremely helpful for future range events. \nMinimum donation of $40.00. (Extra is always welcome and helpful). Our desire is to help you get comfortable and better with a firearm. \nPlease respond if you ARE coming to any of these classes so we can create scenarios and have enough range officers. \nNote: It takes a good 3 to 4 hours set up time for these classes\, so please be considerate in making your commitments. 😊 \nIf you need holsters\, we can custom make them for you!! \n“As a person who has been raised around firearms from a young age\, and previous Class 1 Law Enforcement Officer with extensive range time and training\, I have always been comfortable handling a handgun. \nMy Law Enforcement Career ended almost exactly 10 years ago. I have done almost no training in the past 10 years other than just a few target plinking shots here and there\, absolutely nothing steady or intense. I know I lost my tactical edge and developed a few minor bad habits in form and grip\, like I said zero training to keep my skills sharp. \nThis class was a very good day to remember and practice basic fundamentals of handling and shooting \, class size is perfect to allow for good instruction\, and give special attention to everyone’s fundamentals. A absolutely must have for anyone just learning or getting back into the groove. \nInstructors\, (Adam &amp; David)\, and Mr. Trippi create an absolutely zero judgement zone!” Eric B.
URL:https://libertyfromlead.com/class/range-day/
CATEGORIES:Handgun Introduction
END:VEVENT
BEGIN:VEVENT
DTSTART;TZID=UTC:20240804T130000
DTEND;TZID=UTC:20240804T160000
DTSTAMP:20260423T191940
CREATED:20240801T004721Z
LAST-MODIFIED:20240801T004721Z
UID:1695-1722776400-1722787200@libertyfromlead.com
SUMMARY:Introduction to Handgun Safety\, Handling and Range Etiquette
DESCRIPTION:Introduction to Handgun Safety\, Handling and Range Etiquette \nThis is a great class prior to taking or after taking your CWP class\, beginners and for those who are experienced\, … no judgement here!!!\nEveryone learns something new! \nApproximately three-hour course of: \nSafe handling of firearms and ammo\, on and off the range. \nDiscussion\, of why do we want to own / carry a firearm. \nSome firearm legalities\, Law Enforcement interaction\, when to shoot and when not to. \nItems to have list\, such as firearms\, magazines\, holsters\, ammo\, PPE\, 1st aid\, range bag\, and more. \nHands on with your firearm\, stance\, grip\, sights\, racking the slide\, loading your magazine and changing it\, etc. \nThen live fire on the range. \nWhat to bring: Firearm & at least 50 rounds of ammo\, (100 to be safe)\, Firearm and Mags\, holsters if you have\, eye & ear protection\, closed toed shoes are best\, and we do have some snacks/drinks. \nWe do have restroom accessibility. \nThis important class is highly recommended to get you prepared for our other classes and is extremely helpful for future range events. \nMinimum donation of $40.00. (Extra is always welcome and helpful). Our desire is to help you get comfortable and better with a firearm. \nPlease respond if you ARE coming to any of these classes so we can create scenarios and have enough range officers. \nNote: It takes a good 3 to 4 hours set up time for these classes\, so please be considerate in making your commitments. 😊 \nIf you need holsters\, we can custom make them for you!! \n“As a person who has been raised around firearms from a young age\, and previous Class 1 Law Enforcement Officer with extensive range time and training\, I have always been comfortable handling a handgun. \nMy Law Enforcement Career ended almost exactly 10 years ago. I have done almost no training in the past 10 years other than just a few target plinking shots here and there\, absolutely nothing steady or intense. I know I lost my tactical edge and developed a few minor bad habits in form and grip\, like I said zero training to keep my skills sharp. \nThis class was a very good day to remember and practice basic fundamentals of handling and shooting \, class size is perfect to allow for good instruction\, and give special attention to everyone’s fundamentals. A absolutely must have for anyone just learning or getting back into the groove. \nInstructors\, (Adam &amp; David)\, and Mr. Trippi create an absolutely zero judgement zone!” Eric B.
URL:https://libertyfromlead.com/class/introduction-to-handgun-safety-handling-and-range-etiquette/
CATEGORIES:Handgun Introduction
END:VEVENT
BEGIN:VEVENT
DTSTART;TZID=UTC:20240629T100000
DTEND;TZID=UTC:20240629T130000
DTSTAMP:20260423T191940
CREATED:20240601T001338Z
LAST-MODIFIED:20240621T113412Z
UID:1581-1719655200-1719666000@libertyfromlead.com
SUMMARY:Introduction to Handgun Safety\, Handling and Range Etiquette
DESCRIPTION:Introduction to Handgun Safety\, Handling and Range Etiquette \nThis is a great class prior to taking or after taking your CWP class\, beginners and for those who are experienced\, … no judgement here!!!\nEveryone learns something new! \nApproximately three-hour course of: \nSafe handling of firearms and ammo\, on and off the range. \nDiscussion\, (short)\, of why do we want to own / carry a firearm. \nSome firearm legalities\, Law Enforcement interaction\, when to shoot and when not to. \nItems to have list\, such as firearms\, magazines\, holsters\, ammo\, PPE\, 1st aid\, range bag\, and more. \nHands on with your firearm\, stance\, grip\, sights\, racking the slide\, loading your magazine and changing it\, etc. \nThen live fire on the range. \nWhat to bring: Firearm & at least 50 rounds of ammo\, (100 to be safe)\, Firearm and Mags\, holsters if you have\, eye & ear protection\, closed toed shoes are best\, and we do have some snacks/drinks. \nWe do have restroom accessibility. \nThis important class is highly recommended to get you prepared for our other classes and is extremely helpful for future range events. \nMinimum donation of $40.00. (Extra is always welcome and helpful). \nOur desire is to help you get comfortable and better with a firearm. \nPlease respond if you ARE coming to any of these classes so we can create scenarios and have enough range officers. \nNote: It takes a good 3 to 4 hours set up time for these classes\, so please be considerate in making your commitments. 😊 \nIf you need holsters\, we can custom make them for you!! \n“As a person who has been raised around firearms from a young age\, and previous Class 1 Law Enforcement Officer with extensive range time and training\, I have always been comfortable handling a handgun. \nMy Law Enforcement Career ended almost exactly 10 years ago. I have done almost no training in the past 10 years other than just a few target plinking shots here and there\, absolutely nothing steady or intense. I know I lost my tactical edge and developed a few minor bad habits in form and grip\, like I said zero training to keep my skills sharp. \nThis class was a very good day to remember and practice basic fundamentals of handling and shooting \, class size is perfect to allow for good instruction\, and give special attention to everyone’s fundamentals. A absolutely must have for anyone just learning or getting back into the groove. \nInstructors\, (Adam &amp; David)\, and Mr. Trippi create an absolutely zero judgement zone!” Eric B.
URL:https://libertyfromlead.com/class/1581/
CATEGORIES:Handgun Introduction
END:VEVENT
END:VCALENDAR