BEGIN:VCALENDAR
VERSION:2.0
PRODID:-//Liberty From Lead - ECPv6.15.20//NONSGML v1.0//EN
CALSCALE:GREGORIAN
METHOD:PUBLISH
X-ORIGINAL-URL:https://libertyfromlead.com
X-WR-CALDESC:Events for Liberty From Lead
REFRESH-INTERVAL;VALUE=DURATION:PT1H
X-Robots-Tag:noindex
X-PUBLISHED-TTL:PT1H
BEGIN:VTIMEZONE
TZID:UTC
BEGIN:STANDARD
TZOFFSETFROM:+0000
TZOFFSETTO:+0000
TZNAME:UTC
DTSTART:20230101T000000
END:STANDARD
END:VTIMEZONE
BEGIN:VEVENT
DTSTART;TZID=UTC:20240824T120000
DTEND;TZID=UTC:20240824T150000
DTSTAMP:20260424T233257
CREATED:20230711T175437Z
LAST-MODIFIED:20240818T003833Z
UID:1105-1724500800-1724511600@libertyfromlead.com
SUMMARY:Ladies Day
DESCRIPTION:This is a Ladies Day\, all our attention is on you. \nIf your man comes\, he is NOT allowed to instruct\, criticize\, huff\, or roll/cut his eyes at you!! \nThis is your day\, and he may only give you positive encouragement and high fives! Minimum PDA. \nThings to bring\, FA and 3 mags\, 100 rounds of target ammo\, holsters\, if you have\, PPE\, snacks and drink\, range attire\, etc. \nPlease arrive on range with firearms unloaded and range officer will inspect your FA. \nFor more information\, please email us at brightbrass@libertyfromlead.com
URL:https://libertyfromlead.com/class/ladies-day-2/
CATEGORIES:Ladies Practice
END:VEVENT
END:VCALENDAR