BEGIN:VCALENDAR
VERSION:2.0
PRODID:-//Liberty From Lead - ECPv6.15.20//NONSGML v1.0//EN
CALSCALE:GREGORIAN
METHOD:PUBLISH
X-WR-CALNAME:Liberty From Lead
X-ORIGINAL-URL:https://libertyfromlead.com
X-WR-CALDESC:Events for Liberty From Lead
REFRESH-INTERVAL;VALUE=DURATION:PT1H
X-Robots-Tag:noindex
X-PUBLISHED-TTL:PT1H
BEGIN:VTIMEZONE
TZID:UTC
BEGIN:STANDARD
TZOFFSETFROM:+0000
TZOFFSETTO:+0000
TZNAME:UTC
DTSTART:20240101T000000
END:STANDARD
END:VTIMEZONE
BEGIN:VEVENT
DTSTART;TZID=UTC:20250614T130000
DTEND;TZID=UTC:20250614T160000
DTSTAMP:20260424T080649
CREATED:20250529T000645Z
LAST-MODIFIED:20250617T005938Z
UID:2178-1749906000-1749916800@libertyfromlead.com
SUMMARY:Open Range Day
DESCRIPTION:Open Range Day \nThis practice is a mixture of guys and gals\, at different skill levels\, and a slightly faster pace with minimal amount of teaching. \nItems to bring\, FA and 3 mags\, holsters if you have\, 100 rounds of target ammo\, (150 to be safe)\, PPE\, snacks and drinks\, range attire\, etc. \nPlease arrive on range with firearms unloaded and secured in your range bag or holster until range officer can inspect your FA and ammo. \nFor more information\, please email us at brightbrass@libertyfromlead.com \nMinimum donation of $40 to $50\, (per shooter)\, extra will help others in need. Help us help others. \nNOTE: We can also make custom holsters for your firearm and mags.
URL:https://libertyfromlead.com/class/open-range-day-6/
CATEGORIES:Open Range Day
END:VEVENT
END:VCALENDAR