BEGIN:VCALENDAR
VERSION:2.0
PRODID:-//Liberty From Lead - ECPv6.15.20//NONSGML v1.0//EN
CALSCALE:GREGORIAN
METHOD:PUBLISH
X-ORIGINAL-URL:https://libertyfromlead.com
X-WR-CALDESC:Events for Liberty From Lead
REFRESH-INTERVAL;VALUE=DURATION:PT1H
X-Robots-Tag:noindex
X-PUBLISHED-TTL:PT1H
BEGIN:VTIMEZONE
TZID:UTC
BEGIN:STANDARD
TZOFFSETFROM:+0000
TZOFFSETTO:+0000
TZNAME:UTC
DTSTART:20230101T000000
END:STANDARD
END:VTIMEZONE
BEGIN:VEVENT
DTSTART;TZID=UTC:20241221T130000
DTEND;TZID=UTC:20241221T160000
DTSTAMP:20260423T204036
CREATED:20241204T012707Z
LAST-MODIFIED:20241204T012707Z
UID:1728-1734786000-1734796800@libertyfromlead.com
SUMMARY:Open Range Day
DESCRIPTION:Open Range-day!!				\n				\n					\n		\n					\n		\n				\n						\n					\n			\n						\n				\n									 This practice is a mixture of guys and gals\, at different skill levels\, and a slightly faster pace with minimal amount of teaching. What to bring: Firearm and 3 Mags\, 100 rounds of ammo\, holsters if you have\, eye & ear protection\, range attire\, closed toed shoes are best\, and we do have some snacks/drinks. Please arrive on range with firearms unloaded and secured in your range bag or holster until range officer can inspect your FA and ammo. For more information\, please email us at brightbrass@libertyfromlead.com NOTE: We can also make a custom holster for your firearm and mags. 								\n				\n					\n		\n					\n		\n				\n						\n					\n			\n						\n				\n									Saturday\, March 29th\, 1 to 4pm
URL:https://libertyfromlead.com/class/open-range-day-2/
CATEGORIES:Open Range Day
END:VEVENT
BEGIN:VEVENT
DTSTART;TZID=UTC:20241102T130000
DTEND;TZID=UTC:20241102T160000
DTSTAMP:20260423T204037
CREATED:20241031T233132Z
LAST-MODIFIED:20241031T234416Z
UID:1722-1730552400-1730563200@libertyfromlead.com
SUMMARY:Open Range Day
DESCRIPTION:Open Range-day!!				\n				\n					\n		\n					\n		\n				\n						\n					\n			\n						\n				\n									 This practice is a mixture of guys and gals\, at different skill levels\, and a slightly faster pace with minimal amount of teaching. What to bring: Firearm and 3 Mags\, 100 rounds of ammo\, holsters if you have\, eye & ear protection\, range attire\, closed toed shoes are best\, and we do have some snacks/drinks. Please arrive on range with firearms unloaded and secured in your range bag or holster until range officer can inspect your FA and ammo. For more information\, please email us at brightbrass@libertyfromlead.com NOTE: We can also make a custom holster for your firearm and mags. 								\n				\n					\n		\n					\n		\n				\n						\n					\n			\n						\n				\n									Saturday\, March 29th\, 1 to 4pm
URL:https://libertyfromlead.com/class/open-range-day/
CATEGORIES:Open Range Day
END:VEVENT
BEGIN:VEVENT
DTSTART;TZID=UTC:20240817T120000
DTEND;TZID=UTC:20240817T150000
DTSTAMP:20260423T204037
CREATED:20240814T224522Z
LAST-MODIFIED:20240814T225519Z
UID:1698-1723896000-1723906800@libertyfromlead.com
SUMMARY:Coed Range Day
DESCRIPTION:Open Range-day!!				\n				\n					\n		\n					\n		\n				\n						\n					\n			\n						\n				\n									 This practice is a mixture of guys and gals\, at different skill levels\, and a slightly faster pace with minimal amount of teaching. What to bring: Firearm and 3 Mags\, 100 rounds of ammo\, holsters if you have\, eye & ear protection\, range attire\, closed toed shoes are best\, and we do have some snacks/drinks. Please arrive on range with firearms unloaded and secured in your range bag or holster until range officer can inspect your FA and ammo. For more information\, please email us at brightbrass@libertyfromlead.com NOTE: We can also make a custom holster for your firearm and mags. 								\n				\n					\n		\n					\n		\n				\n						\n					\n			\n						\n				\n									Saturday\, March 29th\, 1 to 4pm
URL:https://libertyfromlead.com/class/coed-range-day/
CATEGORIES:Open Range Day
END:VEVENT
BEGIN:VEVENT
DTSTART;TZID=UTC:20240615T130000
DTEND;TZID=UTC:20240615T160000
DTSTAMP:20260423T204037
CREATED:20240531T235345Z
LAST-MODIFIED:20240618T010137Z
UID:1577-1718456400-1718467200@libertyfromlead.com
SUMMARY:OpenRange day
DESCRIPTION:Open Range-day!!				\n				\n					\n		\n					\n		\n				\n						\n					\n			\n						\n				\n									 This practice is a mixture of guys and gals\, at different skill levels\, and a slightly faster pace with minimal amount of teaching. What to bring: Firearm and 3 Mags\, 100 rounds of ammo\, holsters if you have\, eye & ear protection\, range attire\, closed toed shoes are best\, and we do have some snacks/drinks. Please arrive on range with firearms unloaded and secured in your range bag or holster until range officer can inspect your FA and ammo. For more information\, please email us at brightbrass@libertyfromlead.com NOTE: We can also make a custom holster for your firearm and mags. 								\n				\n					\n		\n					\n		\n				\n						\n					\n			\n						\n				\n									Saturday\, March 29th\, 1 to 4pm
URL:https://libertyfromlead.com/class/1577/
CATEGORIES:Open Range Day
END:VEVENT
END:VCALENDAR