BEGIN:VCALENDAR
VERSION:2.0
PRODID:-//Liberty From Lead - ECPv6.15.20//NONSGML v1.0//EN
CALSCALE:GREGORIAN
METHOD:PUBLISH
X-WR-CALNAME:Liberty From Lead
X-ORIGINAL-URL:https://libertyfromlead.com
X-WR-CALDESC:Events for Liberty From Lead
REFRESH-INTERVAL;VALUE=DURATION:PT1H
X-Robots-Tag:noindex
X-PUBLISHED-TTL:PT1H
BEGIN:VTIMEZONE
TZID:UTC
BEGIN:STANDARD
TZOFFSETFROM:+0000
TZOFFSETTO:+0000
TZNAME:UTC
DTSTART:20220101T000000
END:STANDARD
END:VTIMEZONE
BEGIN:VEVENT
DTSTART;TZID=UTC:20230204T130000
DTEND;TZID=UTC:20230204T160000
DTSTAMP:20260425T190744
CREATED:20230120T170916Z
LAST-MODIFIED:20240828T004144Z
UID:1068-1675515600-1675526400@libertyfromlead.com
SUMMARY:Pistol dis-assembling\, Cleaning\, re-assembling
DESCRIPTION:Pistol dis-assembling\, Cleaning\, re-assembling \nThis class if for guys and gals where we will do a little shooting\, then learn how to clean our firearms. \nWe will start at 1PM with short safety brief\, then an hour or so shooting to get your gun dirty. \nAfter shooting\, we will “go hands on” dis-assembling\, cleaning\, re-assembling your firearm and then a function check. \nBring at least 50 rounds of ammo\, PPE\, gun and mags\, and your cleaning kit. \nWe will have a few cleaning kits available for you to purchase.
URL:https://libertyfromlead.com/class/pistol-dis-assembling-cleaning-re-assembling/
END:VEVENT
END:VCALENDAR