BEGIN:VCALENDAR
VERSION:2.0
PRODID:-//Liberty From Lead - ECPv6.15.20//NONSGML v1.0//EN
CALSCALE:GREGORIAN
METHOD:PUBLISH
X-WR-CALNAME:Liberty From Lead
X-ORIGINAL-URL:https://libertyfromlead.com
X-WR-CALDESC:Events for Liberty From Lead
REFRESH-INTERVAL;VALUE=DURATION:PT1H
X-Robots-Tag:noindex
X-PUBLISHED-TTL:PT1H
BEGIN:VTIMEZONE
TZID:UTC
BEGIN:STANDARD
TZOFFSETFROM:+0000
TZOFFSETTO:+0000
TZNAME:UTC
DTSTART:20220101T000000
END:STANDARD
END:VTIMEZONE
BEGIN:VEVENT
DTSTART;TZID=UTC:20230506T100000
DTEND;TZID=UTC:20230507T150000
DTSTAMP:20260425T151037
CREATED:20221122T170539Z
LAST-MODIFIED:20230419T163108Z
UID:1038-1683367200-1683471600@libertyfromlead.com
SUMMARY:Summer J's Range Day
DESCRIPTION:Girls Weekend is a Saturday private event for friends of Summer J. to experience the freedom we have in America to handle and operate firearms. \nDay will consist of safety orientation and discussion\, hands on\, then live fire. \nItems to bring: Firearm & holster\, Ammo\, (100 rounds target ammo)\, Eye & Ear protection\, comfortable closed toed shoes\, high neck shirt\, snacks & drinks\, (no alcohol while handling firearm’s) \n  \n                                  
URL:https://libertyfromlead.com/class/echange-student-day/
END:VEVENT
END:VCALENDAR