BEGIN:VCALENDAR
VERSION:2.0
PRODID:-//Liberty From Lead - ECPv6.15.20//NONSGML v1.0//EN
CALSCALE:GREGORIAN
METHOD:PUBLISH
X-ORIGINAL-URL:https://libertyfromlead.com
X-WR-CALDESC:Events for Liberty From Lead
REFRESH-INTERVAL;VALUE=DURATION:PT1H
X-Robots-Tag:noindex
X-PUBLISHED-TTL:PT1H
BEGIN:VTIMEZONE
TZID:UTC
BEGIN:STANDARD
TZOFFSETFROM:+0000
TZOFFSETTO:+0000
TZNAME:UTC
DTSTART:20230101T000000
END:STANDARD
END:VTIMEZONE
BEGIN:VEVENT
DTSTART;TZID=UTC:20241102T130000
DTEND;TZID=UTC:20241102T160000
DTSTAMP:20260424T155639
CREATED:20241031T233132Z
LAST-MODIFIED:20241031T234416Z
UID:1722-1730552400-1730563200@libertyfromlead.com
SUMMARY:Open Range Day
DESCRIPTION:Open Range Day  \nThis practice is a mixture of guys and gals\, at different skill levels\, and a slightly faster pace with minimal amount of teaching. \nItems to bring\, FA and 3 mags\, holsters if you have\, 100 rounds of target ammo\, PPE\, snacks and drinks\, range attire\, etc. \nPlease arrive on range with firearms unloaded and secured in your range bag or holster until range officer can inspect your FA and ammo. \nFor more information\, please email us at brightbrass@libertyfromlead.com \nNOTE: If you need one\, Mark can make you a custom holster for your firearm and mags.
URL:https://libertyfromlead.com/class/open-range-day/
CATEGORIES:Open Range Day
END:VEVENT
BEGIN:VEVENT
DTSTART;TZID=UTC:20241116T130000
DTEND;TZID=UTC:20241116T180000
DTSTAMP:20260424T155639
CREATED:20241031T232627Z
LAST-MODIFIED:20241031T232627Z
UID:1720-1731762000-1731780000@libertyfromlead.com
SUMMARY:South Carolina Firearm Carry Class
DESCRIPTION:South Carolina Firearm Carry Class \nThis is the class you should attend and complete prior to carrying your firearm\, open or concealed\, within the state of South Carolina as well as carrying a firearm in other reciprocating states.  \nCWP class is $60.00\, with your $30.00 deposit. Additional cost for firearm rental & ammo and eye & ear protection if needed.
URL:https://libertyfromlead.com/class/south-carolina-firearm-carry-class-3/
CATEGORIES:CWP Class
END:VEVENT
END:VCALENDAR