BEGIN:VCALENDAR
VERSION:2.0
PRODID:-//Liberty From Lead - ECPv6.15.20//NONSGML v1.0//EN
CALSCALE:GREGORIAN
METHOD:PUBLISH
X-ORIGINAL-URL:https://libertyfromlead.com
X-WR-CALDESC:Events for Liberty From Lead
REFRESH-INTERVAL;VALUE=DURATION:PT1H
X-Robots-Tag:noindex
X-PUBLISHED-TTL:PT1H
BEGIN:VTIMEZONE
TZID:UTC
BEGIN:STANDARD
TZOFFSETFROM:+0000
TZOFFSETTO:+0000
TZNAME:UTC
DTSTART:20240101T000000
END:STANDARD
END:VTIMEZONE
BEGIN:VEVENT
DTSTART;TZID=UTC:20250322T130000
DTEND;TZID=UTC:20250322T160000
DTSTAMP:20260424T095124
CREATED:20250306T235103Z
LAST-MODIFIED:20250309T005152Z
UID:1846-1742648400-1742659200@libertyfromlead.com
SUMMARY:Ladies Day
DESCRIPTION:This Ladies Day\, all our attention is on you.     \nIf your man comes\, he is NOT allowed to instruct\, criticize\, huff or puff\, or roll/cut his eyes at you!! \nThis is your day\, and he may only give you positive encouragement and high fives! Minimum PDA.😊 \nWhat to bring: Firearm and 3 Mags\, 100 rounds of ammo\, holsters if you have\, eye & ear protection\, range attire\, closed toed shoes are best\, and we do have some snacks/drinks. \nPlease arrive on range with firearms unloaded and secured in your range bag or holster until range officer can inspect your FA and ammo. \nThere is restroom accessibility. \nMinimum donation of $40.00. (Extra is always welcome and helpful to others). Our desire is to help you get more comfortable and better with a firearm. \nNOTE: Depending on number of attendees\, we could extend the class to 5PM and add $10 bucks. (Always have extra ammo) \nPlease register if you ARE coming this class so we can create scenarios and have enough range officers. \nNote: It takes a good 3 to 4 hours set up time for these classes\, so please be considerate in making your commitments. 😊 \nFor more information\, please email us at brightbrass@libertyfromlead.com
URL:https://libertyfromlead.com/class/ladies-day/
CATEGORIES:Ladies Practice
END:VEVENT
BEGIN:VEVENT
DTSTART;TZID=UTC:20250329T130000
DTEND;TZID=UTC:20250329T160000
DTSTAMP:20260424T095124
CREATED:20250128T012741Z
LAST-MODIFIED:20250331T233038Z
UID:1746-1743253200-1743264000@libertyfromlead.com
SUMMARY:Open Range Day
DESCRIPTION:Open Range-day!!\n \nThis practice is a mixture of guys and gals\, at different skill levels\, and a slightly faster pace with minimal amount of teaching. \nWhat to bring: Firearm and 3 Mags\, 100 rounds of ammo\, holsters if you have\, eye & ear protection\, range attire\, closed toed shoes are best\, and we do have some snacks/drinks. \nPlease arrive on range with firearms unloaded and secured in your range bag or holster until range officer can inspect your FA and ammo. \nFor more information\, please email us at brightbrass@libertyfromlead.com \nNOTE: We can also make a custom holster for your firearm and mags. \nSaturday\, March 29th\, 1 to 4pm
URL:https://libertyfromlead.com/class/open-range-day-3/
CATEGORIES:Open Range Day
END:VEVENT
END:VCALENDAR