BEGIN:VCALENDAR
VERSION:2.0
PRODID:-//Liberty From Lead - ECPv6.15.20//NONSGML v1.0//EN
CALSCALE:GREGORIAN
METHOD:PUBLISH
X-WR-CALNAME:Liberty From Lead
X-ORIGINAL-URL:https://libertyfromlead.com
X-WR-CALDESC:Events for Liberty From Lead
REFRESH-INTERVAL;VALUE=DURATION:PT1H
X-Robots-Tag:noindex
X-PUBLISHED-TTL:PT1H
BEGIN:VTIMEZONE
TZID:UTC
BEGIN:STANDARD
TZOFFSETFROM:+0000
TZOFFSETTO:+0000
TZNAME:UTC
DTSTART:20240101T000000
END:STANDARD
END:VTIMEZONE
BEGIN:VEVENT
DTSTART;TZID=UTC:20250719T100000
DTEND;TZID=UTC:20250719T130000
DTSTAMP:20260424T024428
CREATED:20250624T000242Z
LAST-MODIFIED:20250624T000732Z
UID:2183-1752919200-1752930000@libertyfromlead.com
SUMMARY:Open Range Day
DESCRIPTION:Open Range Day \nThis practice is a mixture of guys and gals\, at different skill levels\, and a slightly faster pace with minimal amount of teaching. \nItems to bring\, FA and 3 mags\, holsters if you have\, 100 rounds of target ammo\, (150 to be safe)\, PPE\, snacks and drinks\, range attire\, etc. \nPlease arrive on range with firearms unloaded and secured in your range bag or holster until range officer can inspect your FA and ammo. \nFor more information\, please email us at brightbrass@libertyfromlead.com \nMinimum donation of $40 to $50\, (per shooter)\, extra will help others in need. Help us help others. \nPlease register if you ARE coming to this class so we can create scenarios and have enough range officers. \nNote: It takes a good 3 to 4 hours set up time for these classes\, so please be considerate in making your commitments. \nNOTE: We can also make custom holsters for your firearm and mags.
URL:https://libertyfromlead.com/class/open-range-day-7/
CATEGORIES:Open Range Day
END:VEVENT
BEGIN:VEVENT
DTSTART;TZID=UTC:20250726T100000
DTEND;TZID=UTC:20250726T130000
DTSTAMP:20260424T024428
CREATED:20250624T000710Z
LAST-MODIFIED:20250704T002745Z
UID:2186-1753524000-1753534800@libertyfromlead.com
SUMMARY:Ladies Day
DESCRIPTION:This Ladies Day\, all our attention is on you. \nIf your man comes\, he is NOT allowed to instruct\, criticize\, huff or puff\, or roll/cut his eyes at you!! \nThis is your day\, and he may only give you positive encouragement and high fives! Minimum PDA.😊 \nWhat to bring: Firearm and 3 Mags\, 100 rounds of ammo\, (150 to be safe)\, holsters if you have\, eye & ear protection\, range attire\, closed toed shoes are best\, and we do have some snacks/drinks. \nPlease arrive on range with firearms unloaded and secured in your range bag or holster until range officer can inspect your FA and ammo. \nThere is restroom accessibility. \nMinimum donation of $40.00 to $50.00 per shooter. (Extra is always welcome and helpful to others). Our desire is to help you get more comfortable and better with a firearm. \nPlease register if you ARE coming to this class so we can create scenarios and have enough range officers. \nNote: It takes a good 3 to 4 hours set up time for these classes\, so please be considerate in making your commitments. 😊 \nFor more information\, please email us at brightbrass@libertyfromlead.com
URL:https://libertyfromlead.com/class/2186/
CATEGORIES:Ladies Practice
END:VEVENT
END:VCALENDAR