BEGIN:VCALENDAR
VERSION:2.0
PRODID:-//Liberty From Lead - ECPv6.15.20//NONSGML v1.0//EN
CALSCALE:GREGORIAN
METHOD:PUBLISH
X-WR-CALNAME:Liberty From Lead
X-ORIGINAL-URL:https://libertyfromlead.com
X-WR-CALDESC:Events for Liberty From Lead
REFRESH-INTERVAL;VALUE=DURATION:PT1H
X-Robots-Tag:noindex
X-PUBLISHED-TTL:PT1H
BEGIN:VTIMEZONE
TZID:UTC
BEGIN:STANDARD
TZOFFSETFROM:+0000
TZOFFSETTO:+0000
TZNAME:UTC
DTSTART:20240101T000000
END:STANDARD
END:VTIMEZONE
BEGIN:VEVENT
DTSTART;TZID=UTC:20251004T130000
DTEND;TZID=UTC:20251004T160000
DTSTAMP:20260423T222751
CREATED:20250915T005018Z
LAST-MODIFIED:20250920T234834Z
UID:2256-1759582800-1759593600@libertyfromlead.com
SUMMARY:Introduction to Handgun Safety\, Handling and Range Etiquette
DESCRIPTION:Introduction to Handgun Safety\, Handling and Range Etiquette \nThis is a great class prior to taking or after taking your CWP class\, beginners and for those who are experienced\, … no judgement here!!!\nEveryone learns something new! \nApproximately three-hour course of: \nSafe handling of firearms and ammo\, on and off the range. \nDiscussion\, of why do we want to own / carry a firearm. \nSome firearm legalities\, Law Enforcement interaction\, when to shoot and when not to. \nItems to have list\, such as firearms\, magazines\, holsters\, ammo\, PPE\, 1st aid\, range bag\, and more. \nHands on with your firearm\, stance\, grip\, sights\, racking the slide\, loading and changing your magazine\, etc. \nThen live fire on the range. \nWhat to bring: Firearm & at least 50 rounds of ammo\, (100 to be safe)\, Firearm and Mags\, holsters if you have\, eye & ear protection\, closed toed shoes are best\, range attire and we do have some snacks/drinks. \nWe do have restroom accessibility. \nThis important class is highly recommended to get you prepared for our other classes and is extremely helpful for future range events. \nMinimum donation of $50.00. (Extra is always welcome and helpful for those in need). Our desire is to help you get comfortable and better with a firearm. \nPlease respond if you ARE coming to any of these classes so we can create scenarios and have enough range officers. \nNote: It takes a good 3 to 4 hours set up time for these classes\, so please be considerate in making your commitments. 😊 \nIf you need holsters\, we can custom make them for you!! \n“As a person who has been raised around firearms from a young age\, and previous Class 1 Law Enforcement Officer with extensive range time and training\, I have always been comfortable handling a handgun. \nMy Law Enforcement Career ended almost exactly 10 years ago. I have done almost no training in the past 10 years other than just a few target plinking shots here and there\, absolutely nothing steady or intense. I know I lost my tactical edge and developed a few minor bad habits in form and grip\, like I said zero training to keep my skills sharp. \nThis class was a very good day to remember and practice basic fundamentals of handling and shooting \, class size is perfect to allow for good instruction\, and give special attention to everyone’s fundamentals. A absolutely must have for anyone just learning or getting back into the groove. \nMark and his instructors\, create an absolutely zero judgement zone!” Eric B.
URL:https://libertyfromlead.com/class/introduction-to-handgun-safety-handling-and-range-etiquette-4/
CATEGORIES:Handgun Introduction
END:VEVENT
BEGIN:VEVENT
DTSTART;TZID=UTC:20251011T120000
DTEND;TZID=UTC:20251011T150000
DTSTAMP:20260423T222751
CREATED:20250919T004641Z
LAST-MODIFIED:20250923T001309Z
UID:2259-1760184000-1760194800@libertyfromlead.com
SUMMARY:Introduction to Handgun Safety\, Handling and Range Etiquette
DESCRIPTION:Introduction to Handgun Safety\, Handling and Range Etiquette \nThis is a great class prior to taking or after taking your CWP class\, beginners and for those who are experienced\, … no judgement here!!!\nEveryone learns something new! \nApproximately three-hour course of: \nSafe handling of firearms and ammo\, on and off the range. \nDiscussion\, of why do we want to own / carry a firearm. \nSome firearm legalities\, Law Enforcement interaction\, when to shoot and when not to. \nItems to have list\, such as firearms\, magazines\, holsters\, ammo\, PPE\, 1st aid\, range bag\, and more. \nHands on with your firearm\, stance\, grip\, sights\, racking the slide\, loading and changing your magazine\, etc. \nThen live fire on the range. \nWhat to bring: Firearm & at least 50 rounds of ammo\, (100 to be safe)\, Firearm and Mags\, holsters if you have\, eye & ear protection\, closed toed shoes are best\, range attire and we do have some snacks/drinks. \nWe do have restroom accessibility. \nThis important class is highly recommended to get you prepared for our other classes and is extremely helpful for future range events. \nMinimum donation of $50.00. (Extra is always welcome and helpful for those in need). Our desire is to help you get comfortable and better with a firearm. \nPlease respond if you ARE coming to any of these classes so we can create scenarios and have enough range officers. \nNote: It takes a good 3 to 4 hours set up time for these classes\, so please be considerate in making your commitments. 😊 \nIf you need holsters\, we can custom make them for you!!
URL:https://libertyfromlead.com/class/introduction-to-handgun-safety-handling-and-range-etiquette-5/
CATEGORIES:Handgun Introduction
END:VEVENT
BEGIN:VEVENT
DTSTART;TZID=UTC:20251018T120000
DTEND;TZID=UTC:20251018T170000
DTSTAMP:20260423T222751
CREATED:20250920T235124Z
LAST-MODIFIED:20250920T235124Z
UID:2261-1760788800-1760806800@libertyfromlead.com
SUMMARY:South Carolina Firearm Carry Class
DESCRIPTION:South Carolina Firearm Carry Class \nThis is the class you should attend and complete prior to carrying your firearm\, open or concealed\, within the state of South Carolina as well as reciprocating States.  \nCWP class is $60.00\, with your $30.00 deposit. (we take Venmo\, Cash Ap\, Apple Pay\, Zelle\, check\, and cash). \nAdditional cost for firearm rental & ammo and eye & ear protection if needed. \nApproximately a five-hour class. \nItems to bring: FA & new ammo\, holsters\, PPE\, snacks & drinks\, notepad\, range attire.
URL:https://libertyfromlead.com/class/south-carolina-firearm-carry-class-8/
CATEGORIES:CWP Class
END:VEVENT
END:VCALENDAR