BEGIN:VCALENDAR
VERSION:2.0
PRODID:-//Liberty From Lead - ECPv6.15.20//NONSGML v1.0//EN
CALSCALE:GREGORIAN
METHOD:PUBLISH
X-WR-CALNAME:Liberty From Lead
X-ORIGINAL-URL:https://libertyfromlead.com
X-WR-CALDESC:Events for Liberty From Lead
REFRESH-INTERVAL;VALUE=DURATION:PT1H
X-Robots-Tag:noindex
X-PUBLISHED-TTL:PT1H
BEGIN:VTIMEZONE
TZID:UTC
BEGIN:STANDARD
TZOFFSETFROM:+0000
TZOFFSETTO:+0000
TZNAME:UTC
DTSTART:20240101T000000
END:STANDARD
END:VTIMEZONE
BEGIN:VEVENT
DTSTART;TZID=UTC:20251108T100000
DTEND;TZID=UTC:20251108T130000
DTSTAMP:20260423T210017
CREATED:20251027T000908Z
LAST-MODIFIED:20251027T001304Z
UID:2290-1762596000-1762606800@libertyfromlead.com
SUMMARY:Open Range Day
DESCRIPTION:Open Range Day \nThis practice is a mixture of guys and gals\, at different skill levels\, and a slightly faster pace with minimal amount of teaching. \nItems to bring\, FA and 3 mags\, holsters if you have\, 100 rounds of target ammo\, (150 to be safe)\, PPE\, snacks and drinks\, range attire\, etc. \nPlease arrive on range with firearms unloaded and secured in your range bag or holster and do not handle until range officer can inspect your FA and ammo. \nFor more information\, please email us at brightbrass@libertyfromlead.com \nMinimum donation of $50\, (per shooter)\, extra will always help others in need. Help us help others. \nPlease register if you ARE coming to this class so we can create scenarios and have enough range officers. \nNote: It takes a good 3 to 4 hours set up time for these classes\, so please be considerate in making your commitments. \nNOTE: We can also make custom holsters for your firearm and mags.
URL:https://libertyfromlead.com/class/open-range-day-10/
CATEGORIES:Open Range Day
END:VEVENT
BEGIN:VEVENT
DTSTART;TZID=UTC:20251115T100000
DTEND;TZID=UTC:20251115T130000
DTSTAMP:20260423T210017
CREATED:20251017T004516Z
LAST-MODIFIED:20251027T003925Z
UID:2287-1763200800-1763211600@libertyfromlead.com
SUMMARY:Still Waters Fellowship
DESCRIPTION:Still Waters Fellowship’s Men’s Day \nNovember 15th\, at 10:00am to 1:00pm \nThis practice is different skill levels\, and a slightly faster pace with minimal amount of teaching. \nItems to bring\, FA and 2 to 3 mags\, holsters if you have\, 100 rounds of target ammo\, (150 to be safe)\, PPE\, snacks and drinks\, range attire\, etc. \nPlease arrive on range with firearms unloaded and secured in your range bag or holster and do not handle firearm until range officer can inspect your FA and ammo. \nFor more information\, please email us at brightbrass@libertyfromlead.com \nMinimum donation Per shooter\, extra will always help others in need. Help us help others. \nPlease register if you ARE coming to this class so we can create scenarios and have enough range officers. \nNote: It takes a good 3 to 4 hours set up time for these classes\, so please be considerate in making your commitments. \nNOTE: We can also make custom holsters for your firearm and mags.
URL:https://libertyfromlead.com/class/still-waters-fellowship/
END:VEVENT
END:VCALENDAR