BEGIN:VCALENDAR
VERSION:2.0
PRODID:-//Liberty From Lead - ECPv6.15.20//NONSGML v1.0//EN
CALSCALE:GREGORIAN
METHOD:PUBLISH
X-WR-CALNAME:Liberty From Lead
X-ORIGINAL-URL:https://libertyfromlead.com
X-WR-CALDESC:Events for Liberty From Lead
REFRESH-INTERVAL;VALUE=DURATION:PT1H
X-Robots-Tag:noindex
X-PUBLISHED-TTL:PT1H
BEGIN:VTIMEZONE
TZID:UTC
BEGIN:STANDARD
TZOFFSETFROM:+0000
TZOFFSETTO:+0000
TZNAME:UTC
DTSTART:20250101T000000
END:STANDARD
END:VTIMEZONE
BEGIN:VEVENT
DTSTART;TZID=UTC:20260104T130000
DTEND;TZID=UTC:20260104T170000
DTSTAMP:20260423T181420
CREATED:20251229T001259Z
LAST-MODIFIED:20251229T001259Z
UID:2385-1767531600-1767546000@libertyfromlead.com
SUMMARY:SC Firearm Carry Class
DESCRIPTION:SC Firearm Carry Class \nThis is the class you should attend and complete prior to carrying your firearm\, open or concealed\, within the state of South Carolina as well as reciprocating States.  \nCWP class is $60.00\, with your $30.00 deposit. (we take Venmo\, Cash Ap\, Apple Pay\, Zelle\, check\, and cash). \nAdditional cost for firearm rental & ammo and eye & ear protection if needed. \nApproximately a five-hour class. \nItems to bring: FA & new ammo\, holsters\, PPE\, snacks & drinks\, notepad\, range attire.
URL:https://libertyfromlead.com/class/sc-firearm-carry-class-2/
CATEGORIES:CWP Class
END:VEVENT
BEGIN:VEVENT
DTSTART;TZID=UTC:20260117T110000
DTEND;TZID=UTC:20260117T140000
DTSTAMP:20260423T181420
CREATED:20251217T232412Z
LAST-MODIFIED:20260213T173339Z
UID:2349-1768647600-1768658400@libertyfromlead.com
SUMMARY:Open Range Day
DESCRIPTION:Open Range Day – Come Hang Out With Us! \nReady to sharpen your skills\, meet awesome people\, and have a great time on the range? 😄 We welcome all experience levels. The pace is a little quicker and there’s not a ton of instruction\, but don’t worry — you’ll fit right in! 😀  \nWhat to Bring: \n\nYour firearm (FA) and 3 mags\nA holsterif you’ve got one\n100 roundsof ammo (150 if you want extra peace of mind)\nEye/ear protection\nSnacks\, drinks\, and comfy range‑appropriate clothes \n\nArrival Instructions:\nPlease arrive with firearms unloaded and secured in your range bag or holster. \nDo not handle your firearm until a range officer gives everything a quick check.  \nDonation:\nWe ask for a minimum $50 donation per shooter — Any extra helps us support others in need — thank you for your generosity\, and we really appreciate it.  \nComing to the Class?\nPlease register if you ARE planning to attend. It helps us build scenarios and make sure we’ve have enough range officers for everyone.  \nQuick Reminder:\nSetup takes about 3–4 hours\, so thanks in advance for keeping your commitment once you register.  \nCustom Holsters:\nNeed a holster? We can make one just for your firearm and mags — handmade with love 💝 right here in the USA. \n🌧️ Weather Update \nIf we’re expecting inclement weather\, we’ll post or text updates ASAP.\nSafety comes first — we’ll notify you of any delays\, cancellations\, or reschedules. Keep an eye on our page or for the text.
URL:https://libertyfromlead.com/class/open-range-day-12/
CATEGORIES:Open Range Day
END:VEVENT
BEGIN:VEVENT
DTSTART;TZID=UTC:20260131T120000
DTEND;TZID=UTC:20260131T170000
DTSTAMP:20260423T181420
CREATED:20251223T005315Z
LAST-MODIFIED:20251223T005315Z
UID:2347-1769860800-1769878800@libertyfromlead.com
SUMMARY:SC Firearm Carry Class
DESCRIPTION:SC Firearm Carry Class \nThis is the class you should attend and complete prior to carrying your firearm\, open or concealed\, within the state of South Carolina as well as reciprocating States.  \nCWP class is $60.00\, with your $30.00 deposit. (we take Venmo\, Cash Ap\, Apple Pay\, Zelle\, check\, and cash). \nAdditional cost for firearm rental & ammo and eye & ear protection if needed. \nApproximately a five-hour class. \nItems to bring: FA & new ammo\, holsters\, PPE\, snacks & drinks\, notepad\, range attire.
URL:https://libertyfromlead.com/class/sc-firearm-carry-class/
CATEGORIES:CWP Class
END:VEVENT
END:VCALENDAR