BEGIN:VCALENDAR
VERSION:2.0
PRODID:-//Liberty From Lead - ECPv6.15.20//NONSGML v1.0//EN
CALSCALE:GREGORIAN
METHOD:PUBLISH
X-WR-CALNAME:Liberty From Lead
X-ORIGINAL-URL:https://libertyfromlead.com
X-WR-CALDESC:Events for Liberty From Lead
REFRESH-INTERVAL;VALUE=DURATION:PT1H
X-Robots-Tag:noindex
X-PUBLISHED-TTL:PT1H
BEGIN:VTIMEZONE
TZID:UTC
BEGIN:STANDARD
TZOFFSETFROM:+0000
TZOFFSETTO:+0000
TZNAME:UTC
DTSTART:20250101T000000
END:STANDARD
END:VTIMEZONE
BEGIN:VEVENT
DTSTART;TZID=UTC:20260214T110000
DTEND;TZID=UTC:20260214T140000
DTSTAMP:20260423T164955
CREATED:20260213T174514Z
LAST-MODIFIED:20260214T021441Z
UID:2401-1771066800-1771077600@libertyfromlead.com
SUMMARY:Open Range Day
DESCRIPTION:Open Range Day – Come Hang Out With Us! \nReady to sharpen your skills\, meet awesome people\, and have a great time on the range? 😄 We welcome all experience levels. The pace is a little quicker and there’s not a ton of instruction\, but don’t worry — you’ll fit right in! 😀  \nWhat to Bring: \n\nYour firearm (FA) and 3 mags\nA holster\, if you’ve got one\n100 rounds  of ammo (150 if you want extra peace of mind)\nEye/ear protection\nSnacks\, drinks\, and comfy range‑appropriate clothes \n\nArrival Instructions:\nPlease arrive with firearms unloaded and secured in your range bag or holster. \nDo not handle your firearm until a range officer gives everything a quick check.  \nDonation:\nWe ask for a minimum $50 donation per shooter — Any extra helps us support others in need — thank you for your generosity\, and we really appreciate it.  \nComing to the Class?\nPlease register if you ARE planning to attend. It helps us build scenarios and make sure we’ve have enough range officers for everyone.  \nQuick Reminder:\nSetup takes about 3–4 hours\, so thanks in advance for keeping your commitment once you register.  \nCustom Holsters:\nNeed a holster? We can make one just for your firearm and mags — handmade with love 💝 right here in the USA. \n🌧️ Weather Update \nIf we’re expecting inclement weather\, we’ll post or text updates ASAP.\nSafety comes first — we’ll notify you of any delays\, cancellations\, or reschedules. Keep an eye on our page or for the text.
URL:https://libertyfromlead.com/class/open-range-day-13/
CATEGORIES:Open Range Day
END:VEVENT
BEGIN:VEVENT
DTSTART;TZID=UTC:20260221T120000
DTEND;TZID=UTC:20260221T170000
DTSTAMP:20260423T164955
CREATED:20260213T163550Z
LAST-MODIFIED:20260213T175924Z
UID:2397-1771675200-1771693200@libertyfromlead.com
SUMMARY:SC Firearm Carry Class
DESCRIPTION:South Carolina Firearm Carry Class \nGet the training and confidence you need to legally and responsibly carry a firearm in South Carolina and all participating reciprocity states. Our course delivers essential instruction with a streamlined\, engaging learning experience. \nAffordable\, All-Inclusive Training \nEnroll for just $60\, which includes a $30 deposit. We offer flexible payment options including Venmo\, Cash App\, Apple Pay\, Zelle\, and cash for your convenience. \nWhat to Expect \nThis comprehensive five-hour class is designed to equip you with the knowledge and confidence needed to carry safely and legally.\nAdditional fees apply only if you need firearm rental\, ammunition\, or protective gear. \nCome Prepared \nTo get the most out of your training\, we recommend bringing: \n\nA firearm with new ammunition\nA holster\nPersonal protective equipment\nSnacks and drinks\nA notepad\nProper range attire\n\n 
URL:https://libertyfromlead.com/class/sc-firearm-carry-class-3/
CATEGORIES:CWP Class
END:VEVENT
BEGIN:VEVENT
DTSTART;TZID=UTC:20260228T110000
DTEND;TZID=UTC:20260228T140000
DTSTAMP:20260423T164955
CREATED:20260213T193148Z
LAST-MODIFIED:20260214T021257Z
UID:2407-1772276400-1772287200@libertyfromlead.com
SUMMARY:Open Range Day
DESCRIPTION:Open Range Day – Come Hang Out With Us! \nReady to sharpen your skills\, meet awesome people\, and have a great time on the range? 😄 We welcome all experience levels. The pace is a little quicker and there’s not a ton of instruction\, but don’t worry — you’ll fit right in! 😀  \nWhat to Bring: \n\nYour firearm (FA) and 3 mags\nA holster\, if you’ve got one\n100 rounds  of ammo (150 if you want extra peace of mind)\nEye/ear protection\nSnacks\, drinks\, and comfy range‑appropriate clothes \n\nArrival Instructions:\nPlease arrive with firearms unloaded and secured in your range bag or holster. \nDo not handle your firearm until a range officer gives everything a quick check.  \nDonation:\nWe ask for a minimum $50 donation per shooter — Any extra helps us support others in need — thank you for your generosity\, and we really appreciate it.  \nComing to the Class?\nPlease register if you ARE planning to attend. It helps us build scenarios and make sure we’ve have enough range officers for everyone.  \nQuick Reminder:\nSetup takes about 3–4 hours\, so thanks in advance for keeping your commitment once you register.  \nCustom Holsters:\nNeed a holster? We can make one just for your firearm and mags — handmade with love 💝 right here in the USA. \n🌧️ Weather Update \nIf we’re expecting inclement weather\, we’ll post or text updates ASAP.\nSafety comes first — we’ll notify you of any delays\, cancellations\, or reschedules. Keep an eye on our page or for the text.
URL:https://libertyfromlead.com/class/open-range-day-14/
CATEGORIES:Open Range Day
END:VEVENT
END:VCALENDAR