BEGIN:VCALENDAR
VERSION:2.0
PRODID:-//Liberty From Lead - ECPv6.15.20//NONSGML v1.0//EN
CALSCALE:GREGORIAN
METHOD:PUBLISH
X-ORIGINAL-URL:https://libertyfromlead.com
X-WR-CALDESC:Events for Liberty From Lead
REFRESH-INTERVAL;VALUE=DURATION:PT1H
X-Robots-Tag:noindex
X-PUBLISHED-TTL:PT1H
BEGIN:VTIMEZONE
TZID:UTC
BEGIN:STANDARD
TZOFFSETFROM:+0000
TZOFFSETTO:+0000
TZNAME:UTC
DTSTART:20250101T000000
END:STANDARD
END:VTIMEZONE
BEGIN:VEVENT
DTSTART;TZID=UTC:20260314T100000
DTEND;TZID=UTC:20260314T130000
DTSTAMP:20260423T152025
CREATED:20260304T004137Z
LAST-MODIFIED:20260309T004634Z
UID:2456-1773482400-1773493200@libertyfromlead.com
SUMMARY:Handgun Introduction
DESCRIPTION:Introduction to Handgun Safety\, Handling and Range Etiquette \nEssential Defensive Firearms Skills Course \nA highly recommended class for anyone preparing to take — or who has already taken — their CWP course. Perfect for beginners and experienced shooters alike\, with a no‑judgment\, learn‑at‑your‑pace environment. Everyone walks away with new skills and greater confidence. \nWhat You’ll Learn (Approx. 3 Hours) \n🛡️ Safe Handling & Fundamentals \nProper handling of firearms and ammunition\, both on and off the range \nCore safety rules and practical application \nBuilding confidence with your personal firearm \n💬 Mindset & Responsibility \nWhy people choose to own or carry a firearm \nUnderstanding personal responsibility and situational awareness \n⚖️ Legal Considerations \nWhen you can — and cannot — legally use your firearm \nInteracting with law enforcement while carrying or after an emergency \nKey legal concepts every responsible gun owner should know \n🎒 Gear & Equipment Overview \nWhat to carry and why: firearms\, magazines\, holsters\, ammo\, PPE\, first aid\, range bag essentials\, and more \nHow to choose reliable\, practical equipment \n🤲 Hands‑On Skill Building \nStance\, grip\, sight alignment\, and trigger control \nRacking the slide\, loading magazines\, and performing magazine changes \nWorking directly with your own firearm for real‑world familiarity \n🔥 Live Fire Practice \nGuided range time to apply everything you’ve learned \nSafe\, supportive coaching to reinforce proper technique \nWhy This Class Matters \nThis course builds the foundation you need for all future training. It prepares you for more advanced classes\, boosts confidence\, and ensures you’re safe\, informed\, and ready for real‑world scenarios
URL:https://libertyfromlead.com/class/handgun-introduction/
CATEGORIES:Handgun Introduction
END:VEVENT
BEGIN:VEVENT
DTSTART;TZID=UTC:20260321T130000
DTEND;TZID=UTC:20260321T160000
DTSTAMP:20260423T152025
CREATED:20260304T004343Z
LAST-MODIFIED:20260304T011115Z
UID:2352-1774098000-1774108800@libertyfromlead.com
SUMMARY:Ladies Day
DESCRIPTION:Ladies’ Day — Confidence\, Skills\, and a Supportive Environment 💛\nThis Ladies’ Day\, all our attention is on you. If your man comes along\, he is not allowed to instruct\, criticize\, huff or puff\, or roll/cut his eyes at you. His only job is positive encouragement—support\, smiles\, and high‑fives only. Minimum PDA. 😊 \nWhat to Bring 🎒\n\nFirearm and 3 magazines\n100 rounds of ammo (150 recommended)\nHolster (if you have one)\nEye & ear protection\nRange‑appropriate attire\nClosed‑toed shoes\nSnacks/drinks are available on-site\n\nPlease arrive with your firearm unloaded and secured in your range bag or holster until a range officer inspects your firearm and ammunition. \nWhat to Expect 🕒\n\nClass typically runs 3–4 hours\, depending on group size\nRestroom access is available\nMinimum donation: $50 per shooter\n\nAdditional donations are always appreciated and help support others\n\n\nOur goal is to help you become more confident\, safe\, and capable with your firearm\n\nPlease email us only if you are attending\, so we can plan scenarios and ensure we have enough range officers for a safe and smooth class. \nWe need a minimum of 6 ladies. \nA note from us: These classes require 3–4 hours of setup time\, so your commitment and consideration truly help us serve everyone well. 😊 \nContact\nFor more information\, email: brightbrass@libertyfromlead.com
URL:https://libertyfromlead.com/class/ladies-day-5/
CATEGORIES:Ladies Practice
END:VEVENT
BEGIN:VEVENT
DTSTART;TZID=UTC:20260328T100000
DTEND;TZID=UTC:20260328T130000
DTSTAMP:20260423T152025
CREATED:20260304T004621Z
LAST-MODIFIED:20260304T004621Z
UID:2458-1774692000-1774702800@libertyfromlead.com
SUMMARY:Open Range Day
DESCRIPTION:Open Range Day – Come Hang Out With Us! \nReady to sharpen your skills\, meet awesome people\, and have a great time on the range? 😄 We welcome all experience levels. The pace is a little quicker and there’s not a ton of instruction\, but don’t worry — you’ll fit right in! 😀  \nWhat to Bring: \n\nYour firearm (FA) and 3 mags\nA holster\, if you’ve got one\n100 rounds  of ammo (150 if you want extra peace of mind)\nEye/ear protection\nSnacks\, drinks\, and comfy range‑appropriate clothes \n\nArrival Instructions:\nPlease arrive with firearms unloaded and secured in your range bag or holster. \nDo not handle your firearm until a range officer gives everything a quick check.  \nDonation:\nWe ask for a minimum $50 donation per shooter — Any extra helps us support others in need — thank you for your generosity\, and we really appreciate it.  \nComing to the Class?\nPlease register if you ARE planning to attend. It helps us build scenarios and make sure we’ve have enough range officers for everyone.  \nQuick Reminder:\nSetup takes about 3–4 hours\, so thanks in advance for keeping your commitment once you register.  \nCustom Holsters:\nNeed a holster? We can make one just for your firearm and mags — handmade with love 💝 right here in the USA. \n🌧️ Weather Update \nIf we’re expecting inclement weather\, we’ll post or text updates ASAP.\nSafety comes first — we’ll notify you of any delays\, cancellations\, or reschedules. Keep an eye on our page or for the text.
URL:https://libertyfromlead.com/class/open-range-day-5/
CATEGORIES:Open Range Day
END:VEVENT
END:VCALENDAR